BEGIN:VCALENDAR
VERSION:2.0
PRODID:-//Suncoast Pickleball Association - ECPv6.15.20//NONSGML v1.0//EN
CALSCALE:GREGORIAN
METHOD:PUBLISH
X-WR-CALNAME:Suncoast Pickleball Association
X-ORIGINAL-URL:https://suncoastpickleball.com
X-WR-CALDESC:Events for Suncoast Pickleball Association
REFRESH-INTERVAL;VALUE=DURATION:PT1H
X-Robots-Tag:noindex
X-PUBLISHED-TTL:PT1H
BEGIN:VTIMEZONE
TZID:America/New_York
BEGIN:DAYLIGHT
TZOFFSETFROM:-0500
TZOFFSETTO:-0400
TZNAME:EDT
DTSTART:20210314T070000
END:DAYLIGHT
BEGIN:STANDARD
TZOFFSETFROM:-0400
TZOFFSETTO:-0500
TZNAME:EST
DTSTART:20211107T060000
END:STANDARD
BEGIN:DAYLIGHT
TZOFFSETFROM:-0500
TZOFFSETTO:-0400
TZNAME:EDT
DTSTART:20220313T070000
END:DAYLIGHT
BEGIN:STANDARD
TZOFFSETFROM:-0400
TZOFFSETTO:-0500
TZNAME:EST
DTSTART:20221106T060000
END:STANDARD
BEGIN:DAYLIGHT
TZOFFSETFROM:-0500
TZOFFSETTO:-0400
TZNAME:EDT
DTSTART:20230312T070000
END:DAYLIGHT
BEGIN:STANDARD
TZOFFSETFROM:-0400
TZOFFSETTO:-0500
TZNAME:EST
DTSTART:20231105T060000
END:STANDARD
END:VTIMEZONE
BEGIN:VEVENT
DTSTART;TZID=America/New_York:20220508T120000
DTEND;TZID=America/New_York:20220513T110000
DTSTAMP:20260424T154213
CREATED:20211116T200534Z
LAST-MODIFIED:20220415T151615Z
UID:10000025-1652011200-1652439600@suncoastpickleball.com
SUMMARY:Suncoast Pickleball Bootcamp #1
DESCRIPTION:Suncoast Pickleball Bootcamp #1\n				\n				08 May 2022 -401 Assembly Dr\n	\n		\n		Montreat\,\n\n	NC\n\n	28757\n\n	United States\n				\n			\n			\n				This event is over.\n				\n			\n			\n				Find out more\n			\n		\nMontreat Conference Center Register on January 1\, 2022
URL:https://suncoastpickleball.com/calendar/suncoast-pickleball-bootcamp-3/
LOCATION:Montreat Conference Center\, 401 Assembly Dr\, Montreat\, NC\, 28757\, United States
ATTACH;FMTTYPE=image/jpeg:https://suncoastpickleball.com/wp-content/uploads/2021/11/pickleball-instructor-addressing-her-students.jpg
END:VEVENT
END:VCALENDAR