BEGIN:VCALENDAR
VERSION:2.0
PRODID:-//Suncoast Pickleball Association - ECPv6.15.20//NONSGML v1.0//EN
CALSCALE:GREGORIAN
METHOD:PUBLISH
X-WR-CALNAME:Suncoast Pickleball Association
X-ORIGINAL-URL:https://suncoastpickleball.com
X-WR-CALDESC:Events for Suncoast Pickleball Association
REFRESH-INTERVAL;VALUE=DURATION:PT1H
X-Robots-Tag:noindex
X-PUBLISHED-TTL:PT1H
BEGIN:VTIMEZONE
TZID:America/New_York
BEGIN:DAYLIGHT
TZOFFSETFROM:-0500
TZOFFSETTO:-0400
TZNAME:EDT
DTSTART:20210314T070000
END:DAYLIGHT
BEGIN:STANDARD
TZOFFSETFROM:-0400
TZOFFSETTO:-0500
TZNAME:EST
DTSTART:20211107T060000
END:STANDARD
BEGIN:DAYLIGHT
TZOFFSETFROM:-0500
TZOFFSETTO:-0400
TZNAME:EDT
DTSTART:20220313T070000
END:DAYLIGHT
BEGIN:STANDARD
TZOFFSETFROM:-0400
TZOFFSETTO:-0500
TZNAME:EST
DTSTART:20221106T060000
END:STANDARD
BEGIN:DAYLIGHT
TZOFFSETFROM:-0500
TZOFFSETTO:-0400
TZNAME:EDT
DTSTART:20230312T070000
END:DAYLIGHT
BEGIN:STANDARD
TZOFFSETFROM:-0400
TZOFFSETTO:-0500
TZNAME:EST
DTSTART:20231105T060000
END:STANDARD
END:VTIMEZONE
BEGIN:VEVENT
DTSTART;TZID=America/New_York:20220602T080000
DTEND;TZID=America/New_York:20220605T170000
DTSTAMP:20260424T130813
CREATED:20220415T153417Z
LAST-MODIFIED:20220415T155542Z
UID:10000032-1654156800-1654448400@suncoastpickleball.com
SUMMARY:Stay N Play at Palmetta Dunes
DESCRIPTION:
URL:https://suncoastpickleball.com/calendar/stay-play-at-palmetta-dunes/
LOCATION:Palmetto Dunes Oceanfront Resort\, 4 Queens Folly Rd\,\, Hilton Head Island\, SC\, 29928\, United States
END:VEVENT
BEGIN:VEVENT
DTSTART;TZID=America/New_York:20220626T183000
DTEND;TZID=America/New_York:20220629T150000
DTSTAMP:20260424T130813
CREATED:20220617T114410Z
LAST-MODIFIED:20220617T154905Z
UID:10000038-1656268200-1656514800@suncoastpickleball.com
SUMMARY:THE Pickleball Summit 2022
DESCRIPTION:Presented by CJ Johnson and Tony Roig of WeArePickleball and YouTube\, more than 35 talks from the top pickleball coaches and experts will be sharing the latest in techniques\, strategies\, gear\, mental focus\, injury prevention and more!  All content is ONLINE and FREE!  You will need a ticket to view it\, so  \nCLICK HERE to Get your FREE Ticket
URL:https://suncoastpickleball.com/calendar/the-pickleball-summit-2022/
LOCATION:FL
END:VEVENT
BEGIN:VEVENT
DTSTART;TZID=America/New_York:20220629T130000
DTEND;TZID=America/New_York:20220629T140000
DTSTAMP:20260424T130813
CREATED:20220617T143143Z
LAST-MODIFIED:20220617T154526Z
UID:10000039-1656507600-1656511200@suncoastpickleball.com
SUMMARY:Coach Russell - Talk at the Pickleball Summit
DESCRIPTION:Picking The Instructor or Camp That Is Right For You
URL:https://suncoastpickleball.com/calendar/coach-russell-a-talk-at-the-pickleball-summit/
LOCATION:FL
END:VEVENT
END:VCALENDAR